BEGIN:VCALENDAR
VERSION:2.0
PRODID:-//Howard County Bird Club - ECPv6.15.20//NONSGML v1.0//EN
CALSCALE:GREGORIAN
METHOD:PUBLISH
X-WR-CALNAME:Howard County Bird Club
X-ORIGINAL-URL:https://howardbirds.website
X-WR-CALDESC:Events for Howard County Bird Club
REFRESH-INTERVAL;VALUE=DURATION:PT1H
X-Robots-Tag:noindex
X-PUBLISHED-TTL:PT1H
BEGIN:VTIMEZONE
TZID:America/New_York
BEGIN:DAYLIGHT
TZOFFSETFROM:-0500
TZOFFSETTO:-0400
TZNAME:EDT
DTSTART:20250309T070000
END:DAYLIGHT
BEGIN:STANDARD
TZOFFSETFROM:-0400
TZOFFSETTO:-0500
TZNAME:EST
DTSTART:20251102T060000
END:STANDARD
BEGIN:DAYLIGHT
TZOFFSETFROM:-0500
TZOFFSETTO:-0400
TZNAME:EDT
DTSTART:20260308T070000
END:DAYLIGHT
BEGIN:STANDARD
TZOFFSETFROM:-0400
TZOFFSETTO:-0500
TZNAME:EST
DTSTART:20261101T060000
END:STANDARD
BEGIN:DAYLIGHT
TZOFFSETFROM:-0500
TZOFFSETTO:-0400
TZNAME:EDT
DTSTART:20270314T070000
END:DAYLIGHT
BEGIN:STANDARD
TZOFFSETFROM:-0400
TZOFFSETTO:-0500
TZNAME:EST
DTSTART:20271107T060000
END:STANDARD
END:VTIMEZONE
BEGIN:VEVENT
DTSTART;TZID=America/New_York:20260415T100000
DTEND;TZID=America/New_York:20260415T120000
DTSTAMP:20260421T041929
CREATED:20260321T233904Z
LAST-MODIFIED:20260321T234305Z
UID:45815-1776247200-1776254400@howardbirds.website
SUMMARY:Spring Wildflower Walk at Savage Park
DESCRIPTION:Park at far end of lots adjacent to a baseball diamond near trailhead of Patuxent Branch Trail.\nSearch for early spring ephemerals along a mostly level\, paved path. Cancelled if raining. Reserve with Sue. No maximum.\nLeaders: Sue Muller\, green12205@gmail.com; Bob & Jo Solem.\n\nReservations required
URL:https://howardbirds.website/event/spring-wildflower-walk-at-savage-park/
LOCATION:Savage Park\, 8400 Fair Street\, Savage\, MD\, 20763\, United States
END:VEVENT
END:VCALENDAR